BEGIN:VCALENDAR
VERSION:2.0
PRODID:-//San Juan Island Chamber of Commerce - ECPv6.15.20//NONSGML v1.0//EN
CALSCALE:GREGORIAN
METHOD:PUBLISH
X-ORIGINAL-URL:https://sanjuanisland.org
X-WR-CALDESC:Events for San Juan Island Chamber of Commerce
REFRESH-INTERVAL;VALUE=DURATION:PT1H
X-Robots-Tag:noindex
X-PUBLISHED-TTL:PT1H
BEGIN:VTIMEZONE
TZID:America/Los_Angeles
BEGIN:DAYLIGHT
TZOFFSETFROM:-0800
TZOFFSETTO:-0700
TZNAME:PDT
DTSTART:20250309T100000
END:DAYLIGHT
BEGIN:STANDARD
TZOFFSETFROM:-0700
TZOFFSETTO:-0800
TZNAME:PST
DTSTART:20251102T090000
END:STANDARD
BEGIN:DAYLIGHT
TZOFFSETFROM:-0800
TZOFFSETTO:-0700
TZNAME:PDT
DTSTART:20260308T100000
END:DAYLIGHT
BEGIN:STANDARD
TZOFFSETFROM:-0700
TZOFFSETTO:-0800
TZNAME:PST
DTSTART:20261101T090000
END:STANDARD
BEGIN:DAYLIGHT
TZOFFSETFROM:-0800
TZOFFSETTO:-0700
TZNAME:PDT
DTSTART:20270314T100000
END:DAYLIGHT
BEGIN:STANDARD
TZOFFSETFROM:-0700
TZOFFSETTO:-0800
TZNAME:PST
DTSTART:20271107T090000
END:STANDARD
END:VTIMEZONE
BEGIN:VEVENT
DTSTART;TZID=America/Los_Angeles:20260419T140000
DTEND;TZID=America/Los_Angeles:20260419T153000
DTSTAMP:20260425T184552
CREATED:20260330T182401Z
LAST-MODIFIED:20260330T182401Z
UID:10009845-1776607200-1776612600@sanjuanisland.org
SUMMARY:TJ Poortinga presents Electric Orange
DESCRIPTION:A runaway psychologist. A rogue publicist. A reluctant student. A dare that shakes the nation. \nA darkly comic novel about memory\, media\, and the danger of being taken seriously. Part psychological mystery\, part alternate history\, it’s a portrait of a person—and a nation—that can’t distinguish madness from insight. Electric Orange is a surreal odyssey through a nation that mistakes sarcasm for a blueprint. \nBellingham-raised author TJ Poortinga presents his new novel\,  psychological fiction is laced with mystery\, satire\, and just enough truth to make you howl. His work is boldly cinematic and unexpectedly tender\, pulsing with the energy of a fever dream.
URL:https://sanjuanisland.org/event/tj-poortinga-presents-electric-orange/
LOCATION:Griffin Bay Bookstore\, 155 Spring Street\, Friday Harbor\, WA\, 98250\, United States
ATTACH;FMTTYPE=image/png:https://sanjuanisland.org/wp-content/uploads/2026/03/TJ-Electric-Orange-4-19.png
ORGANIZER;CN="Griffin Bay Bookstore":MAILTO:info@griffinbaybook.com
END:VEVENT
BEGIN:VEVENT
DTSTART;TZID=America/Los_Angeles:20260407T190000
DTEND;TZID=America/Los_Angeles:20260407T200000
DTSTAMP:20260425T184552
CREATED:20260330T182440Z
LAST-MODIFIED:20260330T182440Z
UID:10009844-1775588400-1775592000@sanjuanisland.org
SUMMARY:Sarita Dasgupta presents Seeds of Fate
DESCRIPTION:Dasgupta is the author of this work of fiction\, seven tales bound together about her native India\, growing tea\, and the human drama that ensues. Learn about tea through fiction! Sarita Dasgupta\, the poet laureate of Ellensburg WA presents seven stories all bound together by growing tea in India.
URL:https://sanjuanisland.org/event/sarita-dasgupta-presents-seeds-of-fate/
LOCATION:Griffin Bay Bookstore\, 155 Spring Street\, Friday Harbor\, WA\, 98250\, United States
ATTACH;FMTTYPE=image/png:https://sanjuanisland.org/wp-content/uploads/2026/03/Seeds-of-Fate-4-7.png
ORGANIZER;CN="Griffin Bay Bookstore":MAILTO:info@griffinbaybook.com
END:VEVENT
END:VCALENDAR