BEGIN:VCALENDAR
VERSION:2.0
PRODID:-//San Juan Island Chamber of Commerce - ECPv6.15.20//NONSGML v1.0//EN
CALSCALE:GREGORIAN
METHOD:PUBLISH
X-WR-CALNAME:San Juan Island Chamber of Commerce
X-ORIGINAL-URL:https://sanjuanisland.org
X-WR-CALDESC:Events for San Juan Island Chamber of Commerce
REFRESH-INTERVAL;VALUE=DURATION:PT1H
X-Robots-Tag:noindex
X-PUBLISHED-TTL:PT1H
BEGIN:VTIMEZONE
TZID:America/Los_Angeles
BEGIN:DAYLIGHT
TZOFFSETFROM:-0800
TZOFFSETTO:-0700
TZNAME:PDT
DTSTART:20250309T100000
END:DAYLIGHT
BEGIN:STANDARD
TZOFFSETFROM:-0700
TZOFFSETTO:-0800
TZNAME:PST
DTSTART:20251102T090000
END:STANDARD
BEGIN:DAYLIGHT
TZOFFSETFROM:-0800
TZOFFSETTO:-0700
TZNAME:PDT
DTSTART:20260308T100000
END:DAYLIGHT
BEGIN:STANDARD
TZOFFSETFROM:-0700
TZOFFSETTO:-0800
TZNAME:PST
DTSTART:20261101T090000
END:STANDARD
BEGIN:DAYLIGHT
TZOFFSETFROM:-0800
TZOFFSETTO:-0700
TZNAME:PDT
DTSTART:20270314T100000
END:DAYLIGHT
BEGIN:STANDARD
TZOFFSETFROM:-0700
TZOFFSETTO:-0800
TZNAME:PST
DTSTART:20271107T090000
END:STANDARD
END:VTIMEZONE
BEGIN:VEVENT
DTSTART;TZID=America/Los_Angeles:20260517T170000
DTEND;TZID=America/Los_Angeles:20260517T203000
DTSTAMP:20260425T194951
CREATED:20260421T182505Z
LAST-MODIFIED:20260421T182505Z
UID:10010302-1779037200-1779049800@sanjuanisland.org
SUMMARY:Soroptimist A May Zing Garden Party
DESCRIPTION:The Gala is being held at the Roche Harbor Pavilion. It will be a lovely spring party. \nFrom 5 to 6 wine\, beer and appetizer will be served in the courtyard. \nAt 6:00 we will move to the dining room were Chef Shaw will have set up three separate food stations each with it own theme. \nThere will be a silent auction and a live auction. \nThis event is to support the women and girls of  San Juan Island. \n  \n 
URL:https://sanjuanisland.org/event/soroptimist-a-may-zing-garden-party/
LOCATION:Roche Harbor Resort\, 248 Reuben Memorial Drive\, FRIDAY HARBOR\, WA\, 98250\, United States
ATTACH;FMTTYPE=image/jpeg:https://sanjuanisland.org/wp-content/uploads/2026/04/tempImageenO9AE.jpg
ORGANIZER;CN="Soroptimist International of Friday Harbor":MAILTO:fundraising@sifri.org
END:VEVENT
END:VCALENDAR