BEGIN:VCALENDAR
VERSION:2.0
PRODID:-//San Juan Island Chamber of Commerce - ECPv6.15.20//NONSGML v1.0//EN
CALSCALE:GREGORIAN
METHOD:PUBLISH
X-ORIGINAL-URL:https://sanjuanisland.org
X-WR-CALDESC:Events for San Juan Island Chamber of Commerce
REFRESH-INTERVAL;VALUE=DURATION:PT1H
X-Robots-Tag:noindex
X-PUBLISHED-TTL:PT1H
BEGIN:VTIMEZONE
TZID:America/Los_Angeles
BEGIN:DAYLIGHT
TZOFFSETFROM:-0800
TZOFFSETTO:-0700
TZNAME:PDT
DTSTART:20250309T100000
END:DAYLIGHT
BEGIN:STANDARD
TZOFFSETFROM:-0700
TZOFFSETTO:-0800
TZNAME:PST
DTSTART:20251102T090000
END:STANDARD
BEGIN:DAYLIGHT
TZOFFSETFROM:-0800
TZOFFSETTO:-0700
TZNAME:PDT
DTSTART:20260308T100000
END:DAYLIGHT
BEGIN:STANDARD
TZOFFSETFROM:-0700
TZOFFSETTO:-0800
TZNAME:PST
DTSTART:20261101T090000
END:STANDARD
BEGIN:DAYLIGHT
TZOFFSETFROM:-0800
TZOFFSETTO:-0700
TZNAME:PDT
DTSTART:20270314T100000
END:DAYLIGHT
BEGIN:STANDARD
TZOFFSETFROM:-0700
TZOFFSETTO:-0800
TZNAME:PST
DTSTART:20271107T090000
END:STANDARD
END:VTIMEZONE
BEGIN:VEVENT
DTSTART;TZID=America/Los_Angeles:20260516T090000
DTEND;TZID=America/Los_Angeles:20260516T150000
DTSTAMP:20260425T170422
CREATED:20260406T232741Z
LAST-MODIFIED:20260414T034003Z
UID:10010178-1778922000-1778943600@sanjuanisland.org
SUMMARY:2026 Spring Great Island Garage Sale
DESCRIPTION:Looking to peruse a wide variety of items courtesy of our island community? The Great Island Garage Sale is the place to be! The doors open each day from 9 am to 3 pm at the Main Exhibit Hall at the San Jaun County Fairgrounds.
URL:https://sanjuanisland.org/event/2026-spring-great-island-garage-sale/2026-05-16/
LOCATION:San Juan County Fairgrounds\, 849 A Argyle Ave\, Friday Harbor\, WA\, 98250\, United States
ATTACH;FMTTYPE=image/png:https://sanjuanisland.org/wp-content/uploads/2026/04/Chamber-Spring-2026-GIGS-1.png
ORGANIZER;CN="Amanda Smith":MAILTO:fair@sanjuancountywa.gov
END:VEVENT
BEGIN:VEVENT
DTSTART;TZID=America/Los_Angeles:20260517T090000
DTEND;TZID=America/Los_Angeles:20260517T150000
DTSTAMP:20260425T170422
CREATED:20260406T232741Z
LAST-MODIFIED:20260414T034003Z
UID:10010179-1779008400-1779030000@sanjuanisland.org
SUMMARY:2026 Spring Great Island Garage Sale
DESCRIPTION:Looking to peruse a wide variety of items courtesy of our island community? The Great Island Garage Sale is the place to be! The doors open each day from 9 am to 3 pm at the Main Exhibit Hall at the San Jaun County Fairgrounds.
URL:https://sanjuanisland.org/event/2026-spring-great-island-garage-sale/2026-05-17/
LOCATION:San Juan County Fairgrounds\, 849 A Argyle Ave\, Friday Harbor\, WA\, 98250\, United States
ATTACH;FMTTYPE=image/png:https://sanjuanisland.org/wp-content/uploads/2026/04/Chamber-Spring-2026-GIGS-1.png
ORGANIZER;CN="Amanda Smith":MAILTO:fair@sanjuancountywa.gov
END:VEVENT
BEGIN:VEVENT
DTSTART;TZID=America/Los_Angeles:20260813T103000
DTEND;TZID=America/Los_Angeles:20260813T203000
DTSTAMP:20260425T170422
CREATED:20260408T205904Z
LAST-MODIFIED:20260408T205904Z
UID:10010181-1786617000-1786653000@sanjuanisland.org
SUMMARY:2026 San Juan County Fair
DESCRIPTION:The San Juan County Fair has something for everyone! Delicious food\, amazing exhibits\, incredible music & entertainment\, and don't forget the rides! Don't miss the best little Fair around!
URL:https://sanjuanisland.org/event/2026-san-juan-county-fair/2026-08-13/
LOCATION:San Juan County Fairgrounds\, 849 A Argyle Ave\, Friday Harbor\, WA\, 98250\, United States
ATTACH;FMTTYPE=image/png:https://sanjuanisland.org/wp-content/uploads/2026/04/Chamber-2026-Fair.png
ORGANIZER;CN="Amanda Smith":MAILTO:fair@sanjuancountywa.gov
END:VEVENT
BEGIN:VEVENT
DTSTART;TZID=America/Los_Angeles:20260814T103000
DTEND;TZID=America/Los_Angeles:20260814T203000
DTSTAMP:20260425T170422
CREATED:20260408T205904Z
LAST-MODIFIED:20260408T205904Z
UID:10010182-1786703400-1786739400@sanjuanisland.org
SUMMARY:2026 San Juan County Fair
DESCRIPTION:The San Juan County Fair has something for everyone! Delicious food\, amazing exhibits\, incredible music & entertainment\, and don't forget the rides! Don't miss the best little Fair around!
URL:https://sanjuanisland.org/event/2026-san-juan-county-fair/2026-08-14/
LOCATION:San Juan County Fairgrounds\, 849 A Argyle Ave\, Friday Harbor\, WA\, 98250\, United States
ATTACH;FMTTYPE=image/png:https://sanjuanisland.org/wp-content/uploads/2026/04/Chamber-2026-Fair.png
ORGANIZER;CN="Amanda Smith":MAILTO:fair@sanjuancountywa.gov
END:VEVENT
BEGIN:VEVENT
DTSTART;TZID=America/Los_Angeles:20260815T103000
DTEND;TZID=America/Los_Angeles:20260815T203000
DTSTAMP:20260425T170422
CREATED:20260408T205904Z
LAST-MODIFIED:20260408T205904Z
UID:10010183-1786789800-1786825800@sanjuanisland.org
SUMMARY:2026 San Juan County Fair
DESCRIPTION:The San Juan County Fair has something for everyone! Delicious food\, amazing exhibits\, incredible music & entertainment\, and don't forget the rides! Don't miss the best little Fair around!
URL:https://sanjuanisland.org/event/2026-san-juan-county-fair/2026-08-15/
LOCATION:San Juan County Fairgrounds\, 849 A Argyle Ave\, Friday Harbor\, WA\, 98250\, United States
ATTACH;FMTTYPE=image/png:https://sanjuanisland.org/wp-content/uploads/2026/04/Chamber-2026-Fair.png
ORGANIZER;CN="Amanda Smith":MAILTO:fair@sanjuancountywa.gov
END:VEVENT
BEGIN:VEVENT
DTSTART;TZID=America/Los_Angeles:20260816T103000
DTEND;TZID=America/Los_Angeles:20260816T203000
DTSTAMP:20260425T170422
CREATED:20260408T205904Z
LAST-MODIFIED:20260408T205904Z
UID:10010184-1786876200-1786912200@sanjuanisland.org
SUMMARY:2026 San Juan County Fair
DESCRIPTION:The San Juan County Fair has something for everyone! Delicious food\, amazing exhibits\, incredible music & entertainment\, and don't forget the rides! Don't miss the best little Fair around!
URL:https://sanjuanisland.org/event/2026-san-juan-county-fair/2026-08-16/
LOCATION:San Juan County Fairgrounds\, 849 A Argyle Ave\, Friday Harbor\, WA\, 98250\, United States
ATTACH;FMTTYPE=image/png:https://sanjuanisland.org/wp-content/uploads/2026/04/Chamber-2026-Fair.png
ORGANIZER;CN="Amanda Smith":MAILTO:fair@sanjuancountywa.gov
END:VEVENT
END:VCALENDAR